BEGIN:VCALENDAR
VERSION:2.0
PRODID:-//My Calendar//http://www.joedolson.com//v3.3.9//EN
METHOD:PUBLISH
CALSCALE:GREGORIAN
X-WR-CALNAME:Locura Empanadas
X-PUBLISHED-TTL:PT24H
REFRESH-INTERVAL;VALUE=DURATION:PT24H
X-WR-CALDESC:Events from Locura Empanadas
BEGIN:VEVENT
UID:525-211
LOCATION:
SUMMARY:Street Food Drink &amp; Music Festival Beckum
DTSTAMP:20240816T000000
ORGANIZER;CN=Helena:MAILTO:helena@locura.de
DTSTART;TZID=Europe/Berlin:20240816T000000
DTEND;TZID=Europe/Berlin:20240819T000000
URL;VALUE=URI:https://www.locura-empanadas.com/my-calendar
DESCRIPTION:Event Info 
CATEGORIES:General
X-FUNAMBOL-ALLDAY: 1
X-MICROSOFT-CDO-ALLDAYEVENT: TRUE

END:VEVENT
BEGIN:VEVENT
UID:524-210
LOCATION:
SUMMARY:Museumsnacht Köln
DTSTAMP:20241102T000000
ORGANIZER;CN=Helena:MAILTO:helena@locura.de
DTSTART;TZID=Europe/Berlin:20241102T000000
DTEND;TZID=Europe/Berlin:20241102T010000
URL;VALUE=URI:https://www.locura-empanadas.com/my-calendar
DESCRIPTION:Event Info 
CATEGORIES:General
END:VEVENT
BEGIN:VEVENT
UID:523-209
LOCATION:
SUMMARY:Automechanika Messe Frankfurt
DTSTAMP:20240909T000000
ORGANIZER;CN=Helena:MAILTO:helena@locura.de
DTSTART;TZID=Europe/Berlin:20240909T000000
DTEND;TZID=Europe/Berlin:20240914T010000
URL;VALUE=URI:https://www.locura-empanadas.com/my-calendar
DESCRIPTION:Event Info 
CATEGORIES:General
END:VEVENT
BEGIN:VEVENT
UID:522-208
LOCATION:
SUMMARY:Street Food Festival Frankfurt
DTSTAMP:20240726T000000
ORGANIZER;CN=Helena:MAILTO:helena@locura.de
DTSTART;TZID=Europe/Berlin:20240726T000000
DTEND;TZID=Europe/Berlin:20240729T000000
URL;VALUE=URI:https://www.locura-empanadas.com/my-calendar
DESCRIPTION:Event Info 
CATEGORIES:General
X-FUNAMBOL-ALLDAY: 1
X-MICROSOFT-CDO-ALLDAYEVENT: TRUE

END:VEVENT
BEGIN:VEVENT
UID:521-207
LOCATION:
SUMMARY:Frankfurter Buchmesse
DTSTAMP:20241016T000000
ORGANIZER;CN=Helena:MAILTO:helena@locura.de
DTSTART;TZID=Europe/Berlin:20241016T000000
DTEND;TZID=Europe/Berlin:20241020T010000
URL;VALUE=URI:https://www.locura-empanadas.com/my-calendar
DESCRIPTION:Event Info 
CATEGORIES:General
END:VEVENT
BEGIN:VEVENT
UID:520-206
LOCATION:
SUMMARY:Messe Spiel Essen
DTSTAMP:20241004T000000
ORGANIZER;CN=Helena:MAILTO:helena@locura.de
DTSTART;TZID=Europe/Berlin:20241004T000000
DTEND;TZID=Europe/Berlin:20241006T010000
URL;VALUE=URI:https://www.locura-empanadas.com/my-calendar
DESCRIPTION:Event Info 
CATEGORIES:General
END:VEVENT
BEGIN:VEVENT
UID:519-205
LOCATION:
SUMMARY:Rund um die Kö
DTSTAMP:20240811T000000
ORGANIZER;CN=Helena:MAILTO:helena@locura.de
DTSTART;TZID=Europe/Berlin:20240811T000000
DTEND;TZID=Europe/Berlin:20240812T000000
URL;VALUE=URI:https://www.locura-empanadas.com/my-calendar
DESCRIPTION:Event Info 
CATEGORIES:General
X-FUNAMBOL-ALLDAY: 1
X-MICROSOFT-CDO-ALLDAYEVENT: TRUE

END:VEVENT
BEGIN:VEVENT
UID:518-204
LOCATION:
SUMMARY:Feierabendmarkt Neuss
DTSTAMP:20240918T000000
ORGANIZER;CN=Helena:MAILTO:helena@locura.de
DTSTART;TZID=Europe/Berlin:20240918T000000
DTEND;TZID=Europe/Berlin:20240918T010000
URL;VALUE=URI:https://www.locura-empanadas.com/my-calendar
DESCRIPTION:Event Info 
CATEGORIES:General
END:VEVENT
BEGIN:VEVENT
UID:517-203
LOCATION:
SUMMARY:Feierabendmarkt Neuss
DTSTAMP:20240807T000000
ORGANIZER;CN=Helena:MAILTO:helena@locura.de
DTSTART;TZID=Europe/Berlin:20240807T000000
DTEND;TZID=Europe/Berlin:20240807T010000
URL;VALUE=URI:https://www.locura-empanadas.com/my-calendar
DESCRIPTION:Event Info 
CATEGORIES:General
END:VEVENT
BEGIN:VEVENT
UID:515-201
LOCATION:
SUMMARY:Feierabendmarkt Neuss
DTSTAMP:20240626T000000
ORGANIZER;CN=Helena:MAILTO:helena@locura.de
DTSTART;TZID=Europe/Berlin:20240626T000000
DTEND;TZID=Europe/Berlin:20240626T010000
URL;VALUE=URI:https://www.locura-empanadas.com/my-calendar
DESCRIPTION:Event Info 
CATEGORIES:General
END:VEVENT
BEGIN:VEVENT
UID:514-200
LOCATION:
SUMMARY:Achema Messe Frankfurt
DTSTAMP:20240610T000000
ORGANIZER;CN=Helena:MAILTO:helena@locura.de
DTSTART;TZID=Europe/Berlin:20240610T000000
DTEND;TZID=Europe/Berlin:20240615T000000
URL;VALUE=URI:https://www.locura-empanadas.com/my-calendar
DESCRIPTION:Event Info 
CATEGORIES:General
X-FUNAMBOL-ALLDAY: 1
X-MICROSOFT-CDO-ALLDAYEVENT: TRUE

END:VEVENT
BEGIN:VEVENT
UID:510-199
LOCATION:
SUMMARY:Veggieworld Karlsruhe
DTSTAMP:20241012T000000
ORGANIZER;CN=Helena:MAILTO:helena@locura.de
DTSTART;TZID=Europe/Berlin:20241012T000000
DTEND;TZID=Europe/Berlin:20241013T010000
URL;VALUE=URI:https://www.locura-empanadas.com/my-calendar
DESCRIPTION:Event Info 
CATEGORIES:General
END:VEVENT
BEGIN:VEVENT
UID:509-198
LOCATION:
SUMMARY:Feierabendmarkt Köln Sülz
DTSTAMP:20240719T000000
ORGANIZER;CN=Helena:MAILTO:helena@locura.de
DTSTART;TZID=Europe/Berlin:20240719T000000
DTEND;TZID=Europe/Berlin:20240720T000000
URL;VALUE=URI:https://www.locura-empanadas.com/my-calendar
DESCRIPTION: 
CATEGORIES:General
X-FUNAMBOL-ALLDAY: 1
X-MICROSOFT-CDO-ALLDAYEVENT: TRUE

END:VEVENT
BEGIN:VEVENT
UID:508-197
LOCATION:
SUMMARY:Parookaville Festival Airport Weeze
DTSTAMP:20240719T000000
ORGANIZER;CN=Helena:MAILTO:helena@locura.de
DTSTART;TZID=Europe/Berlin:20240719T000000
DTEND;TZID=Europe/Berlin:20240722T000000
URL;VALUE=URI:https://www.locura-empanadas.com/my-calendar
DESCRIPTION:Event info 
CATEGORIES:General
X-FUNAMBOL-ALLDAY: 1
X-MICROSOFT-CDO-ALLDAYEVENT: TRUE

END:VEVENT
BEGIN:VEVENT
UID:506-195
LOCATION:
SUMMARY:Veggieworld Hamburg
DTSTAMP:20241019T000000
ORGANIZER;CN=Helena:MAILTO:helena@locura.de
DTSTART;TZID=Europe/Berlin:20241019T000000
DTEND;TZID=Europe/Berlin:20241020T010000
URL;VALUE=URI:https://www.locura-empanadas.com/my-calendar
DESCRIPTION:Event Info 
CATEGORIES:General
END:VEVENT
BEGIN:VEVENT
UID:505-194
LOCATION:
SUMMARY:Trek Festival den Haag
DTSTAMP:20240830T000000
ORGANIZER;CN=Helena:MAILTO:helena@locura.de
DTSTART;TZID=Europe/Berlin:20240830T000000
DTEND;TZID=Europe/Berlin:20240901T010000
URL;VALUE=URI:https://www.locura-empanadas.com/my-calendar
DESCRIPTION:Event Info 
CATEGORIES:General
END:VEVENT
BEGIN:VEVENT
UID:503-192
LOCATION:
SUMMARY:Schlemmermarkt Düren
DTSTAMP:20241009T000000
ORGANIZER;CN=Helena:MAILTO:helena@locura.de
DTSTART;TZID=Europe/Berlin:20241009T000000
DTEND;TZID=Europe/Berlin:20241009T010000
URL;VALUE=URI:https://www.locura-empanadas.com/my-calendar
DESCRIPTION:Event Info 
CATEGORIES:General
END:VEVENT
BEGIN:VEVENT
UID:502-191
LOCATION:
SUMMARY:Schlemmermarkt Düren
DTSTAMP:20240911T000000
ORGANIZER;CN=Helena:MAILTO:helena@locura.de
DTSTART;TZID=Europe/Berlin:20240911T000000
DTEND;TZID=Europe/Berlin:20240911T010000
URL;VALUE=URI:https://www.locura-empanadas.com/my-calendar
DESCRIPTION:Event Info 
CATEGORIES:General
END:VEVENT
BEGIN:VEVENT
UID:501-190
LOCATION:
SUMMARY:Schlemmermarkt Düren
DTSTAMP:20240814T000000
ORGANIZER;CN=Helena:MAILTO:helena@locura.de
DTSTART;TZID=Europe/Berlin:20240814T000000
DTEND;TZID=Europe/Berlin:20240814T010000
URL;VALUE=URI:https://www.locura-empanadas.com/my-calendar
DESCRIPTION:Event Info 
CATEGORIES:General
END:VEVENT
BEGIN:VEVENT
UID:500-189
LOCATION:
SUMMARY:Schlemmermarkt Düren
DTSTAMP:20240710T000000
ORGANIZER;CN=Helena:MAILTO:helena@locura.de
DTSTART;TZID=Europe/Berlin:20240710T000000
DTEND;TZID=Europe/Berlin:20240710T010000
URL;VALUE=URI:https://www.locura-empanadas.com/my-calendar
DESCRIPTION:Event Info 
CATEGORIES:General
END:VEVENT
BEGIN:VEVENT
UID:499-188
LOCATION:
SUMMARY:Schlemmermarkt Düren
DTSTAMP:20240612T000000
ORGANIZER;CN=Helena:MAILTO:helena@locura.de
DTSTART;TZID=Europe/Berlin:20240612T000000
DTEND;TZID=Europe/Berlin:20240612T010000
URL;VALUE=URI:https://www.locura-empanadas.com/my-calendar
DESCRIPTION:Event Info 
CATEGORIES:General
END:VEVENT
BEGIN:VEVENT
UID:498-187
LOCATION:
SUMMARY:Street Food Festival Wolfsburg
DTSTAMP:20240705T000000
ORGANIZER;CN=Helena:MAILTO:helena@locura.de
DTSTART;TZID=Europe/Berlin:20240705T000000
DTEND;TZID=Europe/Berlin:20240707T010000
URL;VALUE=URI:https://www.locura-empanadas.com/my-calendar
DESCRIPTION: 
CATEGORIES:General
END:VEVENT
BEGIN:VEVENT
UID:497-186
LOCATION:
SUMMARY:Summerjam Köln
DTSTAMP:20240705T000000
ORGANIZER;CN=Helena:MAILTO:helena@locura.de
DTSTART;TZID=Europe/Berlin:20240705T000000
DTEND;TZID=Europe/Berlin:20240707T010000
URL;VALUE=URI:https://www.locura-empanadas.com/my-calendar
DESCRIPTION:Event Info 
CATEGORIES:General
END:VEVENT
BEGIN:VEVENT
UID:496-185
LOCATION:
SUMMARY:Kölner Mittsommerfest
DTSTAMP:20240621T000000
ORGANIZER;CN=Helena:MAILTO:helena@locura.de
DTSTART;TZID=Europe/Berlin:20240621T000000
DTEND;TZID=Europe/Berlin:20240623T010000
URL;VALUE=URI:https://www.locura-empanadas.com/my-calendar
DESCRIPTION:Event Info 
CATEGORIES:General
END:VEVENT
BEGIN:VEVENT
UID:495-184
LOCATION:
SUMMARY:Elbjazz Festival Hamburg
DTSTAMP:20240607T000000
ORGANIZER;CN=Helena:MAILTO:helena@locura.de
DTSTART;TZID=Europe/Berlin:20240607T000000
DTEND;TZID=Europe/Berlin:20240608T010000
URL;VALUE=URI:https://www.locura-empanadas.com/my-calendar
DESCRIPTION:Event Info 
CATEGORIES:General
END:VEVENT
BEGIN:VEVENT
UID:494-183
LOCATION:
SUMMARY:Trauben &amp; Hopfenfest Beueler Rheinufer Bonn
DTSTAMP:20240530T000000
ORGANIZER;CN=Helena:MAILTO:helena@locura.de
DTSTART;TZID=Europe/Berlin:20240530T000000
DTEND;TZID=Europe/Berlin:20240602T010000
URL;VALUE=URI:https://www.locura-empanadas.com/my-calendar
DESCRIPTION: 
CATEGORIES:General
END:VEVENT
BEGIN:VEVENT
UID:493-182
LOCATION:
SUMMARY:Trek Festival Maastricht
DTSTAMP:20240523T000000
ORGANIZER;CN=Helena:MAILTO:helena@locura.de
DTSTART;TZID=Europe/Berlin:20240523T000000
DTEND;TZID=Europe/Berlin:20240527T000000
URL;VALUE=URI:https://www.locura-empanadas.com/my-calendar
DESCRIPTION:Event Info 
CATEGORIES:General
X-FUNAMBOL-ALLDAY: 1
X-MICROSOFT-CDO-ALLDAYEVENT: TRUE

END:VEVENT
BEGIN:VEVENT
UID:492-181
LOCATION:
SUMMARY:SHK+E Messe Essen
DTSTAMP:20240319T000000
ORGANIZER;CN=Helena:MAILTO:helena@locura.de
DTSTART;TZID=Europe/Berlin:20240319T000000
DTEND;TZID=Europe/Berlin:20240324T000000
URL;VALUE=URI:https://www.locura-empanadas.com/my-calendar
DESCRIPTION:Event Info 
CATEGORIES:General
X-FUNAMBOL-ALLDAY: 1
X-MICROSOFT-CDO-ALLDAYEVENT: TRUE

END:VEVENT
BEGIN:VEVENT
UID:511-180
LOCATION:
SUMMARY:Kölner Hafen-Weihnachtsmarkt
DTSTAMP:20241115T000000
ORGANIZER;CN=Helena:MAILTO:helena@locura.de
DTSTART;TZID=Europe/Berlin:20241115T000000
DTEND;TZID=Europe/Berlin:20241223T010000
URL;VALUE=URI:https://www.locura-empanadas.com/my-calendar
DESCRIPTION:Event Info 
CATEGORIES:General
END:VEVENT
BEGIN:VEVENT
UID:512-179
LOCATION:
SUMMARY:Weihnachtsmarkt im Stadtgarten Köln
DTSTAMP:20241115T000000
ORGANIZER;CN=Helena:MAILTO:helena@locura.de
DTSTART;TZID=Europe/Berlin:20241115T000000
DTEND;TZID=Europe/Berlin:20241224T000000
URL;VALUE=URI:https://www.locura-empanadas.com/my-calendar
DESCRIPTION:Event Info 
CATEGORIES:General
X-FUNAMBOL-ALLDAY: 1
X-MICROSOFT-CDO-ALLDAYEVENT: TRUE

END:VEVENT
END:VCALENDAR