BEGIN:VCALENDAR
VERSION:2.0
PRODID:-//My Calendar//http://www.joedolson.com//v3.3.9//EN
METHOD:PUBLISH
CALSCALE:GREGORIAN
X-WR-CALNAME:Locura Empanadas
X-PUBLISHED-TTL:PT24H
REFRESH-INTERVAL;VALUE=DURATION:PT24H
X-WR-CALDESC:Events from Locura Empanadas
BEGIN:VEVENT
UID:525-211
LOCATION:
SUMMARY:Street Food Drink &amp; Music Festival Beckum
DTSTAMP:20240815T220000Z
ORGANIZER;CN=Helena:MAILTO:helena@locura.de
DTSTART;TZID=Europe/Berlin:20240815T220000Z
DTEND;TZID=Europe/Berlin:20240818T220000
URL;VALUE=URI:https://www.locura-empanadas.com/my-calendar
DESCRIPTION:Event Info 
CATEGORIES:General
X-FUNAMBOL-ALLDAY: 1
X-MICROSOFT-CDO-ALLDAYEVENT: TRUE

END:VEVENT
BEGIN:VEVENT
UID:524-210
LOCATION:
SUMMARY:Museumsnacht Köln
DTSTAMP:20241101T230000Z
ORGANIZER;CN=Helena:MAILTO:helena@locura.de
DTSTART;TZID=Europe/Berlin:20241101T230000Z
DTEND;TZID=Europe/Berlin:20241102T000000Z
URL;VALUE=URI:https://www.locura-empanadas.com/my-calendar
DESCRIPTION:Event Info 
CATEGORIES:General
END:VEVENT
BEGIN:VEVENT
UID:523-209
LOCATION:
SUMMARY:Automechanika Messe Frankfurt
DTSTAMP:20240908T220000Z
ORGANIZER;CN=Helena:MAILTO:helena@locura.de
DTSTART;TZID=Europe/Berlin:20240908T220000Z
DTEND;TZID=Europe/Berlin:20240913T230000Z
URL;VALUE=URI:https://www.locura-empanadas.com/my-calendar
DESCRIPTION:Event Info 
CATEGORIES:General
END:VEVENT
BEGIN:VEVENT
UID:522-208
LOCATION:
SUMMARY:Street Food Festival Frankfurt
DTSTAMP:20240725T220000Z
ORGANIZER;CN=Helena:MAILTO:helena@locura.de
DTSTART;TZID=Europe/Berlin:20240725T220000Z
DTEND;TZID=Europe/Berlin:20240728T220000
URL;VALUE=URI:https://www.locura-empanadas.com/my-calendar
DESCRIPTION:Event Info 
CATEGORIES:General
X-FUNAMBOL-ALLDAY: 1
X-MICROSOFT-CDO-ALLDAYEVENT: TRUE

END:VEVENT
BEGIN:VEVENT
UID:521-207
LOCATION:
SUMMARY:Frankfurter Buchmesse
DTSTAMP:20241015T220000Z
ORGANIZER;CN=Helena:MAILTO:helena@locura.de
DTSTART;TZID=Europe/Berlin:20241015T220000Z
DTEND;TZID=Europe/Berlin:20241019T230000Z
URL;VALUE=URI:https://www.locura-empanadas.com/my-calendar
DESCRIPTION:Event Info 
CATEGORIES:General
END:VEVENT
BEGIN:VEVENT
UID:520-206
LOCATION:
SUMMARY:Messe Spiel Essen
DTSTAMP:20241003T220000Z
ORGANIZER;CN=Helena:MAILTO:helena@locura.de
DTSTART;TZID=Europe/Berlin:20241003T220000Z
DTEND;TZID=Europe/Berlin:20241005T230000Z
URL;VALUE=URI:https://www.locura-empanadas.com/my-calendar
DESCRIPTION:Event Info 
CATEGORIES:General
END:VEVENT
BEGIN:VEVENT
UID:519-205
LOCATION:
SUMMARY:Rund um die Kö
DTSTAMP:20240810T220000Z
ORGANIZER;CN=Helena:MAILTO:helena@locura.de
DTSTART;TZID=Europe/Berlin:20240810T220000Z
DTEND;TZID=Europe/Berlin:20240811T220000
URL;VALUE=URI:https://www.locura-empanadas.com/my-calendar
DESCRIPTION:Event Info 
CATEGORIES:General
X-FUNAMBOL-ALLDAY: 1
X-MICROSOFT-CDO-ALLDAYEVENT: TRUE

END:VEVENT
BEGIN:VEVENT
UID:518-204
LOCATION:
SUMMARY:Feierabendmarkt Neuss
DTSTAMP:20240917T220000Z
ORGANIZER;CN=Helena:MAILTO:helena@locura.de
DTSTART;TZID=Europe/Berlin:20240917T220000Z
DTEND;TZID=Europe/Berlin:20240917T230000Z
URL;VALUE=URI:https://www.locura-empanadas.com/my-calendar
DESCRIPTION:Event Info 
CATEGORIES:General
END:VEVENT
BEGIN:VEVENT
UID:517-203
LOCATION:
SUMMARY:Feierabendmarkt Neuss
DTSTAMP:20240806T220000Z
ORGANIZER;CN=Helena:MAILTO:helena@locura.de
DTSTART;TZID=Europe/Berlin:20240806T220000Z
DTEND;TZID=Europe/Berlin:20240806T230000Z
URL;VALUE=URI:https://www.locura-empanadas.com/my-calendar
DESCRIPTION:Event Info 
CATEGORIES:General
END:VEVENT
BEGIN:VEVENT
UID:515-201
LOCATION:
SUMMARY:Feierabendmarkt Neuss
DTSTAMP:20240625T220000Z
ORGANIZER;CN=Helena:MAILTO:helena@locura.de
DTSTART;TZID=Europe/Berlin:20240625T220000Z
DTEND;TZID=Europe/Berlin:20240625T230000Z
URL;VALUE=URI:https://www.locura-empanadas.com/my-calendar
DESCRIPTION:Event Info 
CATEGORIES:General
END:VEVENT
BEGIN:VEVENT
UID:514-200
LOCATION:
SUMMARY:Achema Messe Frankfurt
DTSTAMP:20240609T220000Z
ORGANIZER;CN=Helena:MAILTO:helena@locura.de
DTSTART;TZID=Europe/Berlin:20240609T220000Z
DTEND;TZID=Europe/Berlin:20240614T220000
URL;VALUE=URI:https://www.locura-empanadas.com/my-calendar
DESCRIPTION:Event Info 
CATEGORIES:General
X-FUNAMBOL-ALLDAY: 1
X-MICROSOFT-CDO-ALLDAYEVENT: TRUE

END:VEVENT
BEGIN:VEVENT
UID:510-199
LOCATION:
SUMMARY:Veggieworld Karlsruhe
DTSTAMP:20241011T220000Z
ORGANIZER;CN=Helena:MAILTO:helena@locura.de
DTSTART;TZID=Europe/Berlin:20241011T220000Z
DTEND;TZID=Europe/Berlin:20241012T230000Z
URL;VALUE=URI:https://www.locura-empanadas.com/my-calendar
DESCRIPTION:Event Info 
CATEGORIES:General
END:VEVENT
BEGIN:VEVENT
UID:509-198
LOCATION:
SUMMARY:Feierabendmarkt Köln Sülz
DTSTAMP:20240718T220000Z
ORGANIZER;CN=Helena:MAILTO:helena@locura.de
DTSTART;TZID=Europe/Berlin:20240718T220000Z
DTEND;TZID=Europe/Berlin:20240719T220000
URL;VALUE=URI:https://www.locura-empanadas.com/my-calendar
DESCRIPTION: 
CATEGORIES:General
X-FUNAMBOL-ALLDAY: 1
X-MICROSOFT-CDO-ALLDAYEVENT: TRUE

END:VEVENT
BEGIN:VEVENT
UID:508-197
LOCATION:
SUMMARY:Parookaville Festival Airport Weeze
DTSTAMP:20240718T220000Z
ORGANIZER;CN=Helena:MAILTO:helena@locura.de
DTSTART;TZID=Europe/Berlin:20240718T220000Z
DTEND;TZID=Europe/Berlin:20240721T220000
URL;VALUE=URI:https://www.locura-empanadas.com/my-calendar
DESCRIPTION:Event info 
CATEGORIES:General
X-FUNAMBOL-ALLDAY: 1
X-MICROSOFT-CDO-ALLDAYEVENT: TRUE

END:VEVENT
BEGIN:VEVENT
UID:506-195
LOCATION:
SUMMARY:Veggieworld Hamburg
DTSTAMP:20241018T220000Z
ORGANIZER;CN=Helena:MAILTO:helena@locura.de
DTSTART;TZID=Europe/Berlin:20241018T220000Z
DTEND;TZID=Europe/Berlin:20241019T230000Z
URL;VALUE=URI:https://www.locura-empanadas.com/my-calendar
DESCRIPTION:Event Info 
CATEGORIES:General
END:VEVENT
BEGIN:VEVENT
UID:505-194
LOCATION:
SUMMARY:Trek Festival den Haag
DTSTAMP:20240829T220000Z
ORGANIZER;CN=Helena:MAILTO:helena@locura.de
DTSTART;TZID=Europe/Berlin:20240829T220000Z
DTEND;TZID=Europe/Berlin:20240831T230000Z
URL;VALUE=URI:https://www.locura-empanadas.com/my-calendar
DESCRIPTION:Event Info 
CATEGORIES:General
END:VEVENT
BEGIN:VEVENT
UID:503-192
LOCATION:
SUMMARY:Schlemmermarkt Düren
DTSTAMP:20241008T220000Z
ORGANIZER;CN=Helena:MAILTO:helena@locura.de
DTSTART;TZID=Europe/Berlin:20241008T220000Z
DTEND;TZID=Europe/Berlin:20241008T230000Z
URL;VALUE=URI:https://www.locura-empanadas.com/my-calendar
DESCRIPTION:Event Info 
CATEGORIES:General
END:VEVENT
BEGIN:VEVENT
UID:502-191
LOCATION:
SUMMARY:Schlemmermarkt Düren
DTSTAMP:20240910T220000Z
ORGANIZER;CN=Helena:MAILTO:helena@locura.de
DTSTART;TZID=Europe/Berlin:20240910T220000Z
DTEND;TZID=Europe/Berlin:20240910T230000Z
URL;VALUE=URI:https://www.locura-empanadas.com/my-calendar
DESCRIPTION:Event Info 
CATEGORIES:General
END:VEVENT
BEGIN:VEVENT
UID:501-190
LOCATION:
SUMMARY:Schlemmermarkt Düren
DTSTAMP:20240813T220000Z
ORGANIZER;CN=Helena:MAILTO:helena@locura.de
DTSTART;TZID=Europe/Berlin:20240813T220000Z
DTEND;TZID=Europe/Berlin:20240813T230000Z
URL;VALUE=URI:https://www.locura-empanadas.com/my-calendar
DESCRIPTION:Event Info 
CATEGORIES:General
END:VEVENT
BEGIN:VEVENT
UID:500-189
LOCATION:
SUMMARY:Schlemmermarkt Düren
DTSTAMP:20240709T220000Z
ORGANIZER;CN=Helena:MAILTO:helena@locura.de
DTSTART;TZID=Europe/Berlin:20240709T220000Z
DTEND;TZID=Europe/Berlin:20240709T230000Z
URL;VALUE=URI:https://www.locura-empanadas.com/my-calendar
DESCRIPTION:Event Info 
CATEGORIES:General
END:VEVENT
BEGIN:VEVENT
UID:499-188
LOCATION:
SUMMARY:Schlemmermarkt Düren
DTSTAMP:20240611T220000Z
ORGANIZER;CN=Helena:MAILTO:helena@locura.de
DTSTART;TZID=Europe/Berlin:20240611T220000Z
DTEND;TZID=Europe/Berlin:20240611T230000Z
URL;VALUE=URI:https://www.locura-empanadas.com/my-calendar
DESCRIPTION:Event Info 
CATEGORIES:General
END:VEVENT
BEGIN:VEVENT
UID:498-187
LOCATION:
SUMMARY:Street Food Festival Wolfsburg
DTSTAMP:20240704T220000Z
ORGANIZER;CN=Helena:MAILTO:helena@locura.de
DTSTART;TZID=Europe/Berlin:20240704T220000Z
DTEND;TZID=Europe/Berlin:20240706T230000Z
URL;VALUE=URI:https://www.locura-empanadas.com/my-calendar
DESCRIPTION: 
CATEGORIES:General
END:VEVENT
BEGIN:VEVENT
UID:497-186
LOCATION:
SUMMARY:Summerjam Köln
DTSTAMP:20240704T220000Z
ORGANIZER;CN=Helena:MAILTO:helena@locura.de
DTSTART;TZID=Europe/Berlin:20240704T220000Z
DTEND;TZID=Europe/Berlin:20240706T230000Z
URL;VALUE=URI:https://www.locura-empanadas.com/my-calendar
DESCRIPTION:Event Info 
CATEGORIES:General
END:VEVENT
BEGIN:VEVENT
UID:496-185
LOCATION:
SUMMARY:Kölner Mittsommerfest
DTSTAMP:20240620T220000Z
ORGANIZER;CN=Helena:MAILTO:helena@locura.de
DTSTART;TZID=Europe/Berlin:20240620T220000Z
DTEND;TZID=Europe/Berlin:20240622T230000Z
URL;VALUE=URI:https://www.locura-empanadas.com/my-calendar
DESCRIPTION:Event Info 
CATEGORIES:General
END:VEVENT
BEGIN:VEVENT
UID:495-184
LOCATION:
SUMMARY:Elbjazz Festival Hamburg
DTSTAMP:20240606T220000Z
ORGANIZER;CN=Helena:MAILTO:helena@locura.de
DTSTART;TZID=Europe/Berlin:20240606T220000Z
DTEND;TZID=Europe/Berlin:20240607T230000Z
URL;VALUE=URI:https://www.locura-empanadas.com/my-calendar
DESCRIPTION:Event Info 
CATEGORIES:General
END:VEVENT
BEGIN:VEVENT
UID:494-183
LOCATION:
SUMMARY:Trauben &amp; Hopfenfest Beueler Rheinufer Bonn
DTSTAMP:20240529T220000Z
ORGANIZER;CN=Helena:MAILTO:helena@locura.de
DTSTART;TZID=Europe/Berlin:20240529T220000Z
DTEND;TZID=Europe/Berlin:20240601T230000Z
URL;VALUE=URI:https://www.locura-empanadas.com/my-calendar
DESCRIPTION: 
CATEGORIES:General
END:VEVENT
BEGIN:VEVENT
UID:493-182
LOCATION:
SUMMARY:Trek Festival Maastricht
DTSTAMP:20240522T220000Z
ORGANIZER;CN=Helena:MAILTO:helena@locura.de
DTSTART;TZID=Europe/Berlin:20240522T220000Z
DTEND;TZID=Europe/Berlin:20240526T220000
URL;VALUE=URI:https://www.locura-empanadas.com/my-calendar
DESCRIPTION:Event Info 
CATEGORIES:General
X-FUNAMBOL-ALLDAY: 1
X-MICROSOFT-CDO-ALLDAYEVENT: TRUE

END:VEVENT
BEGIN:VEVENT
UID:492-181
LOCATION:
SUMMARY:SHK+E Messe Essen
DTSTAMP:20240318T230000Z
ORGANIZER;CN=Helena:MAILTO:helena@locura.de
DTSTART;TZID=Europe/Berlin:20240318T230000Z
DTEND;TZID=Europe/Berlin:20240323T230000
URL;VALUE=URI:https://www.locura-empanadas.com/my-calendar
DESCRIPTION:Event Info 
CATEGORIES:General
X-FUNAMBOL-ALLDAY: 1
X-MICROSOFT-CDO-ALLDAYEVENT: TRUE

END:VEVENT
BEGIN:VEVENT
UID:511-180
LOCATION:
SUMMARY:Kölner Hafen-Weihnachtsmarkt
DTSTAMP:20241114T230000Z
ORGANIZER;CN=Helena:MAILTO:helena@locura.de
DTSTART;TZID=Europe/Berlin:20241114T230000Z
DTEND;TZID=Europe/Berlin:20241223T000000Z
URL;VALUE=URI:https://www.locura-empanadas.com/my-calendar
DESCRIPTION:Event Info 
CATEGORIES:General
END:VEVENT
BEGIN:VEVENT
UID:512-179
LOCATION:
SUMMARY:Weihnachtsmarkt im Stadtgarten Köln
DTSTAMP:20241114T230000Z
ORGANIZER;CN=Helena:MAILTO:helena@locura.de
DTSTART;TZID=Europe/Berlin:20241114T230000Z
DTEND;TZID=Europe/Berlin:20241223T230000
URL;VALUE=URI:https://www.locura-empanadas.com/my-calendar
DESCRIPTION:Event Info 
CATEGORIES:General
X-FUNAMBOL-ALLDAY: 1
X-MICROSOFT-CDO-ALLDAYEVENT: TRUE

END:VEVENT
END:VCALENDAR